BEGIN:VCALENDAR
VERSION:2.0
PRODID:-//ProArts Playhouse - ECPv6.15.20//NONSGML v1.0//EN
CALSCALE:GREGORIAN
METHOD:PUBLISH
X-WR-CALNAME:ProArts Playhouse
X-ORIGINAL-URL:https://proartsmaui.org
X-WR-CALDESC:Events for ProArts Playhouse
REFRESH-INTERVAL;VALUE=DURATION:PT1H
X-Robots-Tag:noindex
X-PUBLISHED-TTL:PT1H
BEGIN:VTIMEZONE
TZID:Pacific/Honolulu
BEGIN:STANDARD
TZOFFSETFROM:-1000
TZOFFSETTO:-1000
TZNAME:HST
DTSTART:20240101T000000
END:STANDARD
END:VTIMEZONE
BEGIN:VEVENT
DTSTART;TZID=Pacific/Honolulu:20250301T173000
DTEND;TZID=Pacific/Honolulu:20250301T220000
DTSTAMP:20260420T021856
CREATED:20250202T111607Z
LAST-MODIFIED:20250220T233104Z
UID:7990-1740850200-1740866400@proartsmaui.org
SUMMARY:Curtain Up! 2025 Fundraiser
DESCRIPTION:Curtain Up! 2025 Fundraiser\n			\n				\n				\n				\n				\n				We are so grateful for the overwhelming interest in our Curtain Up! Fundraiser. The show is currently SOLD OUT\, but you can add your name to the waiting list by calling 808-463-6550.\nYou can also support ProArts by checking out our online auction HERE!Bid on items from Trilogy Excursions\, the Old Lahaina Luau\, Pickleball Maui\, and more!\nExperience an exceptional elegant evening at ProArts in support of our Season and services to the community.\nOur space will be transformed inside and expanded to the outdoors for one extraordinary night\, showcasing a bit of nearly everything ProArts offers! Music\, magic\, aerial dance\, and of course\, theatre! Not to mention pupus\, beverages\, and surprises galore!\nThe evening will include…\n\n\n5:30pm Pre-party hour at DeVine Wine Lounge for those in our Premium seats. Meet and greet with some of our performers.\n\n\n6:30pm Pupus and mocktails at ProArts with pre-show entertainment by magician David Kuraya\, aerialist Caye McKibben\, and Dickie Tilton on our grand piano.\n\n\n7:30pm Show featuring performances by John Cruz\, Amy Hānaiali`i\, Eric Gilliom\, Sheryl Renee\, Steve Grimes\, the cast of “Little Shop of Horrors\,” and surprise special guests!\n\n\nAs a lead-up to the event\, we will also have an online auction that will go live later this month\, featuring items from Mick Fleetwood\, Lin-Manuel Miranda\, Trilogy Excursions\, Steve Grimes\, the Old Lahaina Luau\, Pickleball Maui\, and more.\nFunds raised will benefit our Access for All Program\, Theatrical Season\, Pono Project\, Non-Profit Discount Program\, and more\, here at Hawai`i’s Favorite Local Theatre! For more on our mission\, CLICK HERE.\n			\n				LEARN MORE\n			\n			\n				\n				\n				\n				\n			\n			\n				\n				\n				\n				\n				\n				\n				\n				\n				\n				Ticket Information\nPremium:\n$250 – Front row seats with small tables and swag bags. Pre-show hour at DeVine Wine Lounge included!\nPreferred:\n$150 – Seats in the front row of any seating tier\, with a small gift\nRegular Seating:\n$100 – Any of our other wonderful seats\, with a small gift\n			\n				LEARN MORE\n			\n			\n				\n				\n			\n				\n				\n				\n				\n				\n				\n				\n				\n				\n				\n				\n				\n				\n				BACK TO UPCOMING\n			\n			\n				\n				\n				\n				\n			\n				\n				\n				\n				\n				\n				\n			\n				\n				\n				\n				\n				\n				\n				\n				\n				\n				\n					\n						Search for:
URL:https://proartsmaui.org/event/curtain-up-2025-fundraiser/
LOCATION:ProArts Playhouse\, 1280 South Kihei Road\, Kihei\, HI\, 96753\, United States
CATEGORIES:Magic,Music,Special Events,Theatre
ATTACH;FMTTYPE=image/jpeg:https://proartsmaui.org/wp-content/uploads/2025/02/0-1-e1738480870686.jpg
END:VEVENT
END:VCALENDAR