BEGIN:VCALENDAR
VERSION:2.0
PRODID:-//ProArts Playhouse - ECPv6.15.20//NONSGML v1.0//EN
CALSCALE:GREGORIAN
METHOD:PUBLISH
X-ORIGINAL-URL:https://proartsmaui.org
X-WR-CALDESC:Events for ProArts Playhouse
REFRESH-INTERVAL;VALUE=DURATION:PT1H
X-Robots-Tag:noindex
X-PUBLISHED-TTL:PT1H
BEGIN:VTIMEZONE
TZID:Pacific/Honolulu
BEGIN:STANDARD
TZOFFSETFROM:-1000
TZOFFSETTO:-1000
TZNAME:HST
DTSTART:20240101T000000
END:STANDARD
END:VTIMEZONE
BEGIN:VEVENT
DTSTART;TZID=Pacific/Honolulu:20250517T120000
DTEND;TZID=Pacific/Honolulu:20250517T130000
DTSTAMP:20260421T010857
CREATED:20250402T020554Z
LAST-MODIFIED:20250430T142041Z
UID:8407-1747483200-1747486800@proartsmaui.org
SUMMARY:The Cyclopes Gate
DESCRIPTION:The Cyclopes Gate\nA Roots School Production\nDirected by Genie Hokulani Calagna\n			\n				\n				\n				\n				\n				Friday\, May 16\, 2025 at 12:00pm\nRun time: 1 Hour – No Intermission\n			\n				BUY TICKETS\n			\n				\n				\n				\n				\n				About the Show\nThis magical adventure follows three young girls who form an unlikely friendship with a Cyclops and uncover the powerful truth that things are not always what they seem. In a medieval land of mystery and wonder\, they must learn to trust their instincts as they navigate encounters with witches\, a wizard\, elves\, and a mighty king and queen. Along the way\, they discover that courage\, understanding\, and friendship can break even the strongest barriers—revealing that we are more alike than different.\nFor more info on the Roots School\, go to https://rootsmaui.org/\n			\n			\n				\n				\n				\n				\n			\n			\n				\n				\n				\n				\n				\n				\n				\n				\n				\n				Ticket Information\n$12-20 for Adults\n$10 for Keiki\nFor information on our Access for All initiative\, click HERE\n			\n				BUY TICKETS\n			\n			\n				\n				\n			\n				\n				\n				\n				\n				\n				\n				\n				\n				\n				\n				\n				\n				\n			\n				\n				\n				\n				\n				\n				\n				\n				\n				\n				[events-calendar-search placeholder="Search Events" show-events="5" disable-past-events="false" layout="medium" content-type="advance"]\n			\n				BACK TO UPCOMING
URL:https://proartsmaui.org/event/the-cyclopes-gate-may-17/
LOCATION:ProArts Playhouse\, 1280 South Kihei Road\, Kihei\, HI\, 96753\, United States
CATEGORIES:Theatre
ATTACH;FMTTYPE=image/jpeg:https://proartsmaui.org/wp-content/uploads/2025/04/CyclopesGate_Square.jpg
END:VEVENT
END:VCALENDAR