BEGIN:VCALENDAR
VERSION:2.0
PRODID:-//ProArts Playhouse - ECPv6.15.20//NONSGML v1.0//EN
CALSCALE:GREGORIAN
METHOD:PUBLISH
X-WR-CALNAME:ProArts Playhouse
X-ORIGINAL-URL:https://proartsmaui.org
X-WR-CALDESC:Events for ProArts Playhouse
REFRESH-INTERVAL;VALUE=DURATION:PT1H
X-Robots-Tag:noindex
X-PUBLISHED-TTL:PT1H
BEGIN:VTIMEZONE
TZID:Pacific/Honolulu
BEGIN:STANDARD
TZOFFSETFROM:-1000
TZOFFSETTO:-1000
TZNAME:HST
DTSTART:20240101T000000
END:STANDARD
END:VTIMEZONE
BEGIN:VEVENT
DTSTART;TZID=Pacific/Honolulu:20250131T193000
DTEND;TZID=Pacific/Honolulu:20250131T213000
DTSTAMP:20260419T071102
CREATED:20241114T002150Z
LAST-MODIFIED:20250123T052838Z
UID:5964-1738351800-1738359000@proartsmaui.org
SUMMARY:Baskerville
DESCRIPTION:Baskerville\n			\n				\n				\n				\n				\n				WRITTEN BY: Ken Ludwig\nDIRECTED BY: Ricky Jones\nSPONSORED BY: Bob and Kealoha Offermann\n3-Show Season Package: Purchase tickets for all 3 theatrical shows (Every Christmas Story…\, Baskerville\, and Little Shop of Horrors)\, and get 10% off! Add ALL 3 shows to shopping cart and apply promo code:\nTHEATER24-25\n			\n				BUY TICKETS\n			\n				\n				\n				\n				\n				About the Show\nGet your deerstalker cap on – the play’s afoot! Comedic genius Ken Ludwig transforms Arthur Conan Doyle’s classic The Hound of the Baskervilles into a murderously funny adventure. Sherlock Holmes is on the case. The male heirs of the Baskerville line are being dispatched one by one. To find their ingenious killer\, Holmes and Watson must brave the desolate moors before a family curse dooms its newest heir. Watch as our intrepid investigators try to escape a dizzying web of clues\, silly accents\, disguises\, and deceit as five actors deftly portray more than forty characters. Does a wild hellhound prowl the moors of Devonshire? Can our heroes discover the truth in time? Join the fun and see how far from elementary the truth can be.\nPerformances\n\nFriday\, January 31 at 7:30 PM\nSaturday\, February 1 at 7:30 PM\nSunday\, February 2 at 2:00 PM\nThursday\, February 6 at 7:30 PM\nFriday\, February 7 at 7:30 PM\nSaturday\, February 8 at 7:30 PM\nSunday\, February 9 at 2:00 PM\nThursday\, February 13 at 7:30 PM\nFriday\, February 14 at 7:30 PM\nSaturday\, February 15 at 7:30 PM\nSunday\, February 16 at 2:00 PM\n\n			\n			\n				\n				\n				\n				\n			\n			\n				\n				\n				\n				\n				\n				\n				\n				\n				\n				Ticket Information\nPremium:\n$45 (large cushy front-row chairs with small tables)\nPreferred:\n$40  (front row of any seating tier)\nRegular Seating:\n$30\nPartially-Obstructed View:\n$25\nTeens (13 to 17):\n$5 off any seat\nKeiki (12 and under):\n$10 off any seat\nThursdays are Kama’aina Nights for 10% off!\nOR\n3-Show Season Package: Purchase tickets for all 3 theatrical shows (Every Christmas Story…\, Baskerville\, and Little Shop of Horrors)\, and get 10% off! Add ALL 3 shows to shopping cart and apply promo code: THEATER24-25\n			\n				BUY TICKETS\n			\n			\n				\n				\n			\n				\n				\n				\n				\n				\n				\n				\n				\n				\n				\n				\n				\n				\n				BACK TO UPCOMING\n			\n			\n				\n				\n				\n				\n			\n				\n				\n				\n				\n				\n				\n			\n				\n				\n				\n				\n				\n				\n				\n				\n				\n				\n					\n						Search for:
URL:https://proartsmaui.org/event/baskerville-jan-31/
LOCATION:ProArts Playhouse\, 1280 South Kihei Road\, Kihei\, HI\, 96753\, United States
CATEGORIES:Theatre
ATTACH;FMTTYPE=image/jpeg:https://proartsmaui.org/wp-content/uploads/2024/11/Baskerville-SQUARE-rev-1.jpg
END:VEVENT
END:VCALENDAR