BEGIN:VCALENDAR
VERSION:2.0
PRODID:-//ProArts Playhouse - ECPv6.15.20//NONSGML v1.0//EN
CALSCALE:GREGORIAN
METHOD:PUBLISH
X-ORIGINAL-URL:https://proartsmaui.org
X-WR-CALDESC:Events for ProArts Playhouse
REFRESH-INTERVAL;VALUE=DURATION:PT1H
X-Robots-Tag:noindex
X-PUBLISHED-TTL:PT1H
BEGIN:VTIMEZONE
TZID:Pacific/Honolulu
BEGIN:STANDARD
TZOFFSETFROM:-1000
TZOFFSETTO:-1000
TZNAME:HST
DTSTART:20230101T000000
END:STANDARD
END:VTIMEZONE
BEGIN:VEVENT
DTSTART;TZID=Pacific/Honolulu:20241210T180000
DTEND;TZID=Pacific/Honolulu:20241210T180000
DTSTAMP:20260419T040733
CREATED:20241126T065051Z
LAST-MODIFIED:20241207T011803Z
UID:6790-1733853600-1733853600@proartsmaui.org
SUMMARY:Stories From Our Ancestors
DESCRIPTION:Stories from Our AncestorsA Roots School Production\n			\n				\n				\n				\n				\n				Tuesday\, December 10th at 6pmWednesday\, December 11th at 12pm \nRun time: 1 Hour – No Intermission\n			\n				BUY TICKETS\n			\n				\n				\n				\n				\n				True stories passed down and shared with love \n  \nDirected by Genie Hokulani Calagna \n  \n			\n				\n				\n				\n				\n				About the Show\nTake a walk down memory lane as we honor the Stories From Our Ancestors through monologue. This journey will take you around the world and into your heart. We laugh\, we cry\, and we connect through knowing our history and the experiences that came before us.\nFor more info on the Roots School\, go to https://rootsmaui.org/\n			\n			\n				\n				\n				\n				\n			\n			\n				\n				\n				\n				\n				\n				\n				\n				\n				\n				\n			\n				\n				\n				\n				\n				Ticket Information\n$12-$20 for Adults\n$10 for Keiki\nFor information on our Access for All initiative\, click HERE\n			\n				BUY TICKETS\n			\n			\n				\n				\n			\n				\n				\n				\n				\n				\n				\n				\n				\n				\n				\n				\n				\n				\n			\n				\n				\n				\n				\n				\n				\n				\n				\n				\n				[events-calendar-search placeholder="Search Events" show-events="5" disable-past-events="false" layout="medium" content-type="advance"]\n			\n				BACK TO UPCOMING
URL:https://proartsmaui.org/event/6790/
LOCATION:ProArts Playhouse\, 1280 South Kihei Road\, Kihei\, HI\, 96753\, United States
CATEGORIES:Theatre
ATTACH;FMTTYPE=image/jpeg:https://proartsmaui.org/wp-content/uploads/2024/11/Roots-Updated-e1733012217351.jpg
END:VEVENT
END:VCALENDAR