BEGIN:VCALENDAR
VERSION:2.0
PRODID:-//ProArts Playhouse - ECPv6.15.20//NONSGML v1.0//EN
CALSCALE:GREGORIAN
METHOD:PUBLISH
X-ORIGINAL-URL:https://proartsmaui.org
X-WR-CALDESC:Events for ProArts Playhouse
REFRESH-INTERVAL;VALUE=DURATION:PT1H
X-Robots-Tag:noindex
X-PUBLISHED-TTL:PT1H
BEGIN:VTIMEZONE
TZID:Pacific/Honolulu
BEGIN:STANDARD
TZOFFSETFROM:-1000
TZOFFSETTO:-1000
TZNAME:HST
DTSTART:20240101T000000
END:STANDARD
END:VTIMEZONE
BEGIN:VEVENT
DTSTART;TZID=Pacific/Honolulu:20250706T150000
DTEND;TZID=Pacific/Honolulu:20250706T163000
DTSTAMP:20260420T004118
CREATED:20250313T132143Z
LAST-MODIFIED:20250614T112736Z
UID:8282-1751814000-1751819400@proartsmaui.org
SUMMARY:White Hawaiian
DESCRIPTION:White Hawaiian\n			\n				\n				\n				\n				\n				Sunday\, July 7\, 2025Starts at 3:00pmRun-time: 75 minutes – no intermission\n			\n				BUY TICKETS\n			\n				\n				\n				\n				\n				About the Show\nShows every Sunday\, starting April 20th!\nA one-man musical extravaganza! Winner of 2023’s Best Cabaret/Concert/Solo Performance  in Hawai’i by BroadwayWorld!\n(Times vary each week. Some weeks are at 3pm. Others at 7pm.) For full listing\, click Book Tickets! \nBroadway’s Eric Gilliom tickles your funny bone and warms your heart while celebrating Hawaii’s rich history and unique multi-ethnic culture. Breathing life into his own native-Hawaiian ancestry through a dizzying array of characters\, hilarious storytelling\, and over-the-top show stoppers\, Gilliom’s entertainment industry family legacy proves beyond the shadow of a doubt that truth is always stranger than fiction\, and the coconut doesn’t fall far from the tree.\n“Based on the foundation of a multigenerational family tribute\, White Hawaiian embraces a dizzying array of comedic caricatures\, Chaplinesque slapstick\, moving drama\, multiple hit musical highlights and non-stop laugh-out-loud moments along with Hawaiian cultural history. All wrapped up with a knockout performance by its star. An actor’s tour de force”   —Maui News\n“Hawaii’s greatest showman”   — Rock legend Mick Fleetwood\n“Eric is one of the funniest guys I know” — Oscar winner Jamie Foxx\n  \n			\n			\n				\n				\n				\n				\n			\n			\n				\n				\n				\n				\n				\n				\n				\n				\n				\n				Ticket Information\nPremium Seating:\n$50 Extra large and comfy front row seats from A1 to A6 with side tables\nPreferred Seating:\n$45 Best-view seating in either the Front row (seats A7 to A15) OR the front row of any elevated section\nRegular Seating:\n$35\nPartially-Obstructed View Seating:\n$30\nFor information on our Access for All initiative\, click HERE.\n			\n				BUY TICKETS\n			\n			\n				\n				\n			\n				\n				\n				\n				\n				\n				\n				\n				\n				\n				\n				\n				\n				\n				BACK TO UPCOMING\n			\n			\n				\n				\n				\n				\n			\n				\n				\n				\n				\n				\n				\n			\n				\n				\n				\n				\n				\n				\n				\n				\n				\n				\n					\n						Search for:
URL:https://proartsmaui.org/event/white-hawaiian-7-6-25/
LOCATION:ProArts Playhouse\, 1280 South Kihei Road\, Kihei\, HI\, 96753\, United States
CATEGORIES:Comedy,Music,Theatre
ATTACH;FMTTYPE=image/jpeg:https://proartsmaui.org/wp-content/uploads/2025/03/unnamed-e1742961440475.jpg
END:VEVENT
BEGIN:VEVENT
DTSTART;TZID=Pacific/Honolulu:20250710T193000
DTEND;TZID=Pacific/Honolulu:20250710T210000
DTSTAMP:20260420T004118
CREATED:20250624T092631Z
LAST-MODIFIED:20250624T092634Z
UID:9486-1752175800-1752181200@proartsmaui.org
SUMMARY:"Lovey Lee" Special Pride Month Screening
DESCRIPTION:“Lovey Lee” Special Pride Month Screening\n			\n				\n				\n				\n				\n				Thursday\, July 10\, 2025At 7:30pmRun time: 90 minutes with NO intermission\n			\n				BUY TICKETS\n			\n				\n				\n				\n				\n				Presented by ProArts Playhouse and Maui OnStage\n**A Special 2025 Pride Month Screening of the 2024 performance of the live play\nBased on the true story of one Honolulu Hotel Street prostitute’s harrowing journey chronicles the highs and lows of 1970s life on the outside of convention\, as written with biting\, beautiful honesty by Maui’s own Moses Goods\, of NCIS: Hawaii and Jason Momoa’s upcoming Chief of War.\nHawai‘i in the 1970s.  A time of reclamation\, discovery and pride.  For Lovey Lee\, a young queer Hawaiian\, the 70s is about finding a place where they can just be.  With Hawaiʻi’s cultural renaissance at its peak and with the sexual liberation movement booming throughout the nation\, there is perhaps no better time to explore life\, identity and freedom.  But the journey of any brave pioneer is often complicated and fraught with challenges.  In this coming of age story\, Lovey finds themself journeying from their safe island home to the invigorating streets of San Francisco to the dark alleys of Hotel Street and back again in their search for place.\nCONTENT WARNING: The nature of the story means that this is not a family show. It deals with sensitive and mature themes\, explicit language\, and references to racism\, sexual assault\, homophobia\, transphobia\, and scenes of an adult nature. It may not be suitable for all audiences\, especially those who are triggered or uncomfortable with discussions of mental health\, identity struggles\, and discrimination. Support resources will be listed in the show’s playbill.\nAge restriction: 18 and older advised; under 16 will not be admitted.\n			\n			\n				\n				\n				\n				\n			\n			\n				\n				\n				\n				\n				\n				\n				\n				\n				\n				\n			\n				\n				\n				\n				\n				Ticket Information\nAll Seats\n$5\nFor information on our Access for All initiative\, click HERE\n			\n				BUY TICKETS\n			\n			\n				\n				\n			\n				\n				\n				\n				\n				\n				\n				\n				\n				\n				\n				\n				\n				\n			\n				\n				\n				\n				\n				\n				\n				\n				\n				\n				[events-calendar-search placeholder="Search Events" show-events="5" disable-past-events="false" layout="medium" content-type="advance"]\n			\n				BACK TO UPCOMING
URL:https://proartsmaui.org/event/loveyleescreening7-10-25/
LOCATION:ProArts Playhouse\, 1280 South Kihei Road\, Kihei\, HI\, 96753\, United States
CATEGORIES:Theatre
ATTACH;FMTTYPE=image/jpeg:https://proartsmaui.org/wp-content/uploads/2025/06/Lovey-Lee-1.jpeg
END:VEVENT
BEGIN:VEVENT
DTSTART;TZID=Pacific/Honolulu:20250711T193000
DTEND;TZID=Pacific/Honolulu:20250711T203000
DTSTAMP:20260420T004118
CREATED:20250125T012542Z
LAST-MODIFIED:20250617T074313Z
UID:7875-1752262200-1752265800@proartsmaui.org
SUMMARY:Magic in Paradise
DESCRIPTION:Magic in ParadiseStarring former Warren & Annabelle’s Headliner David Kuraya!\n			\n				\n				\n				\n				\n				Friday\, July 11\, 2025Starts at 7:30pm\n			\n				BUY TICKETS\n			\n				\n				\n				\n				\n				About the Show\nPrepare to be dazzled by world-class entertainer and expert in sleight-of-hand magic\, Maui’s own David Kuraya. David is one of six elite magicians– and the only magician from Maui– who performed regularly at the renowned Warren & Annabelle’s Magic Nightclub in Lahaina before the fires. A deeply community-oriented performer\, David\, carries on the legacy of that beautiful show with the blessing of his longtime friend and mentor Warren. At each show\, he donates parts of his proceeds to local charities.\nUpcoming date on April 9! Featuring special guest performers!\n			\n				\n				\n				\n				\n				\n				\n			\n				\n				\n				\n				\n				More About David\nDavid also entertains corporate groups and colleges throughout Hawaii and the United States mainland. He was the strolling magician for Tony Robbins’ “Connect to My Essence” seminar on Maui\, resident magician at Mana Kai Resort\, and headlining performer at the world-famous Magic Castle in Hollywood. David regularly entertains at private events for politicians\, TV stars\, and businessmen\, such as the founder of Ellie Mae Inc.\, Sig Anderman\, who said of David’s show\, “I have worked with many magicians\, but David is just THE BEST\, as good as it gets\, a ten out of ten.” Clients know they get more than magic when they book David Kuraya. His curated routines are original\, clean\, and personalized for each group. The message of David’s show is\, “When we come together\, amazing things happen.” The magic does not come from a colorful box or magic wand but through the whole audience’s teamwork. The result is a unique bonding experience that will leave a lasting effect long after the show. See you at showtime!\n			\n			\n				\n				\n				\n				\n			\n			\n				\n				\n				\n				\n				\n				\n				\n				\n				\n				\n			\n				\n				\n				\n				\n				Ticket Information\nPremium Seating:\n$40 Extra large and comfy front row seats from A1 to A6 with side tables\nPreferred Seating:\n$35 Best-view seating in either the Front row (seats A7 to A15) OR the front row of any elevated section\nRegular Seating:\n$25\nPartially-Obstructed View Seats:\n$20\nDiscounts:\n$10 OFF Keiki and $5 OFF Teens and/or Kama’aina (with valid State of Hawai’i ID)\n			\n				\n				\n				\n				\n				\n				\n			\n				BUY TICKETS\n			\n			\n				\n				\n			\n				\n				\n				\n				\n				\n				\n				\n				\n				\n				\n				\n				\n				\n			\n				\n				\n				\n				\n				\n				\n				\n				\n				\n				[events-calendar-search placeholder="Search Events" show-events="5" disable-past-events="false" layout="medium" content-type="advance"]\n			\n				BACK TO UPCOMING
URL:https://proartsmaui.org/event/magic-in-paradise-7-11-25/
LOCATION:ProArts Playhouse\, 1280 South Kihei Road\, Kihei\, HI\, 96753\, United States
CATEGORIES:Comedy,Magic
ATTACH;FMTTYPE=image/jpeg:https://proartsmaui.org/wp-content/uploads/2025/01/Magic-reg-square-2.jpg
END:VEVENT
BEGIN:VEVENT
DTSTART;TZID=Pacific/Honolulu:20250713T150000
DTEND;TZID=Pacific/Honolulu:20250713T163000
DTSTAMP:20260420T004118
CREATED:20250531T023044Z
LAST-MODIFIED:20250614T112553Z
UID:9272-1752418800-1752424200@proartsmaui.org
SUMMARY:White Hawaiian
DESCRIPTION:White Hawaiian\n			\n				\n				\n				\n				\n				Sunday\, July 13\, 2025Starts at 3:00pmRun-time: 75 minutes – No Intermission\n			\n				BUY TICKETS\n			\n				\n				\n				\n				\n				About the Show\nShows every Sunday\, starting April 20th!\nA one-man musical extravaganza! Winner of 2023’s Best Cabaret/Concert/Solo Performance  in Hawai’i by BroadwayWorld!\n(Times vary each week. Some weeks are at 3pm. Others at 7pm.) For full listing\, click Book Tickets!\nBroadway’s Eric Gilliom tickles your funny bone and warms your heart while celebrating Hawaii’s rich history and unique multi-ethnic culture. Breathing life into his own native-Hawaiian ancestry through a dizzying array of characters\, hilarious storytelling\, and over-the-top show stoppers\, Gilliom’s entertainment industry family legacy proves beyond the shadow of a doubt that truth is always stranger than fiction\, and the coconut doesn’t fall far from the tree.\n“Based on the foundation of a multigenerational family tribute\, White Hawaiian embraces a dizzying array of comedic caricatures\, Chaplinesque slapstick\, moving drama\, multiple hit musical highlights and non-stop laugh-out-loud moments along with Hawaiian cultural history. All wrapped up with a knockout performance by its star. An actor’s tour de force”   —Maui News\n“Hawaii’s greatest showman”   — Rock legend Mick Fleetwood\n“Eric is one of the funniest guys I know” — Oscar winner Jamie Foxx\n \n			\n			\n				\n				\n				\n				\n			\n			\n				\n				\n				\n				\n				\n				\n				\n				\n				\n				Ticket Information\nPremium Seating:\n$50 Extra large and comfy front row seats from A1 to A6 with side tables\nPreferred Seating:\n$45 Best-view seating in either the Front row (seats A7 to A15) OR the front row of any elevated section\nRegular Seating:\n$35\nPartially-Obstructed View Seating:\n$30\nFor information on our Access for All initiative\, click HERE.\n$5 OFF Kama’aina (with valid State of Hawai’i ID)\n			\n				BUY TICKETS\n			\n			\n				\n				\n			\n				\n				\n				\n				\n				\n				\n				\n				\n				\n				\n				\n				\n				\n				BACK TO UPCOMING\n			\n			\n				\n				\n				\n				\n			\n				\n				\n				\n				\n				\n				\n			\n				\n				\n				\n				\n				\n				\n				\n				\n				\n				\n					\n						Search for:
URL:https://proartsmaui.org/event/white-hawaiian-jul-13/
LOCATION:ProArts Playhouse\, 1280 South Kihei Road\, Kihei\, HI\, 96753\, United States
CATEGORIES:Comedy,Music,Theatre
ATTACH;FMTTYPE=image/jpeg:https://proartsmaui.org/wp-content/uploads/2025/04/White-Hawaiian-ProArts-2025-e1748658255221.jpg
END:VEVENT
BEGIN:VEVENT
DTSTART;TZID=Pacific/Honolulu:20250720T150000
DTEND;TZID=Pacific/Honolulu:20250720T163000
DTSTAMP:20260420T004118
CREATED:20250425T022629Z
LAST-MODIFIED:20250614T112526Z
UID:8998-1753023600-1753029000@proartsmaui.org
SUMMARY:White Hawaiian
DESCRIPTION:White Hawaiian\n			\n				\n				\n				\n				\n				Sunday\, July 20\, 2025Starts at 3:00pmRun-time: 75 minutes – No Intermission\n			\n				BUY TICKETS\n			\n				\n				\n				\n				\n				About the Show\nShows every Sunday\, starting April 20th!\nA one-man musical extravaganza! Winner of 2023’s Best Cabaret/Concert/Solo Performance  in Hawai’i by BroadwayWorld!\n(Times vary each week. Some weeks are at 3pm. Others at 7pm.) For full listing\, click Book Tickets!\nBroadway’s Eric Gilliom tickles your funny bone and warms your heart while celebrating Hawaii’s rich history and unique multi-ethnic culture. Breathing life into his own native-Hawaiian ancestry through a dizzying array of characters\, hilarious storytelling\, and over-the-top show stoppers\, Gilliom’s entertainment industry family legacy proves beyond the shadow of a doubt that truth is always stranger than fiction\, and the coconut doesn’t fall far from the tree.\n“Based on the foundation of a multigenerational family tribute\, White Hawaiian embraces a dizzying array of comedic caricatures\, Chaplinesque slapstick\, moving drama\, multiple hit musical highlights and non-stop laugh-out-loud moments along with Hawaiian cultural history. All wrapped up with a knockout performance by its star. An actor’s tour de force”   —Maui News\n“Hawaii’s greatest showman”   — Rock legend Mick Fleetwood\n“Eric is one of the funniest guys I know” — Oscar winner Jamie Foxx\n \n			\n			\n				\n				\n				\n				\n			\n			\n				\n				\n				\n				\n				\n				\n				\n				\n				\n				Ticket Information\nPremium Seating:\n$50 Extra large and comfy front row seats from A1 to A6 with side tables\nPreferred Seating:\n$45 Best-view seating in either the Front row (seats A7 to A15) OR the front row of any elevated section\nRegular Seating:\n$35\nPartially-Obstructed View Seating:\n$30\nFor information on our Access for All initiative\, click HERE.\n$5 OFF Kama’aina (with valid State of Hawai’i ID)\n			\n				BUY TICKETS\n			\n			\n				\n				\n			\n				\n				\n				\n				\n				\n				\n				\n				\n				\n				\n				\n				\n				\n				BACK TO UPCOMING\n			\n			\n				\n				\n				\n				\n			\n				\n				\n				\n				\n				\n				\n			\n				\n				\n				\n				\n				\n				\n				\n				\n				\n				\n					\n						Search for:
URL:https://proartsmaui.org/event/white-hawaiian-7-20-25/
LOCATION:ProArts Playhouse\, 1280 South Kihei Road\, Kihei\, HI\, 96753\, United States
CATEGORIES:Comedy,Music,Theatre
ATTACH;FMTTYPE=image/jpeg:https://proartsmaui.org/wp-content/uploads/2025/03/unnamed-e1742961440475.jpg
END:VEVENT
BEGIN:VEVENT
DTSTART;TZID=Pacific/Honolulu:20250727T150000
DTEND;TZID=Pacific/Honolulu:20250727T163000
DTSTAMP:20260420T004118
CREATED:20250425T013812Z
LAST-MODIFIED:20250614T112259Z
UID:8983-1753628400-1753633800@proartsmaui.org
SUMMARY:White Hawaiian
DESCRIPTION:White Hawaiian\n			\n				\n				\n				\n				\n				Sunday\, July\, 27\, 2025Starts at 3:00pmRun-time: 75 minutes – No Intermission\n			\n				BUY TICKETS\n			\n				\n				\n				\n				\n				About the Show\nShows every Sunday\, starting April 20th!\nA one-man musical extravaganza! Winner of 2023’s Best Cabaret/Concert/Solo Performance  in Hawai’i by BroadwayWorld!\n(Times vary each week. Some weeks are at 3pm. Others at 7pm.) For full listing\, click Book Tickets!\nBroadway’s Eric Gilliom tickles your funny bone and warms your heart while celebrating Hawaii’s rich history and unique multi-ethnic culture. Breathing life into his own native-Hawaiian ancestry through a dizzying array of characters\, hilarious storytelling\, and over-the-top show stoppers\, Gilliom’s entertainment industry family legacy proves beyond the shadow of a doubt that truth is always stranger than fiction\, and the coconut doesn’t fall far from the tree.\n“Based on the foundation of a multigenerational family tribute\, White Hawaiian embraces a dizzying array of comedic caricatures\, Chaplinesque slapstick\, moving drama\, multiple hit musical highlights and non-stop laugh-out-loud moments along with Hawaiian cultural history. All wrapped up with a knockout performance by its star. An actor’s tour de force”   —Maui News\n“Hawaii’s greatest showman”   — Rock legend Mick Fleetwood\n“Eric is one of the funniest guys I know” — Oscar winner Jamie Foxx\n \n			\n			\n				\n				\n				\n				\n			\n			\n				\n				\n				\n				\n				\n				\n				\n				\n				\n				Ticket Information\nPremium Seating:\n$50 Extra large and comfy front row seats from A1 to A6 with side tables\nPreferred Seating:\n$45 Best-view seating in either the Front row (seats A7 to A15) OR the front row of any elevated section\nRegular Seating:\n$35\nPartially-Obstructed View Seating:\n$30\nFor information on our Access for All initiative\, click HERE.\n$5 OFF Kama’aina (with valid State of Hawai’i ID)\n			\n				BUY TICKETS\n			\n			\n				\n				\n			\n				\n				\n				\n				\n				\n				\n				\n				\n				\n				\n				\n				\n				\n				BACK TO UPCOMING\n			\n			\n				\n				\n				\n				\n			\n				\n				\n				\n				\n				\n				\n			\n				\n				\n				\n				\n				\n				\n				\n				\n				\n				\n					\n						Search for:
URL:https://proartsmaui.org/event/white-hawaiian-7-27-25/
LOCATION:ProArts Playhouse\, 1280 South Kihei Road\, Kihei\, HI\, 96753\, United States
CATEGORIES:Comedy,Music,Theatre
ATTACH;FMTTYPE=image/jpeg:https://proartsmaui.org/wp-content/uploads/2025/03/unnamed-e1742961440475.jpg
END:VEVENT
END:VCALENDAR