BEGIN:VCALENDAR
VERSION:2.0
PRODID:-//ProArts Playhouse - ECPv6.15.20//NONSGML v1.0//EN
CALSCALE:GREGORIAN
METHOD:PUBLISH
X-WR-CALNAME:ProArts Playhouse
X-ORIGINAL-URL:https://proartsmaui.org
X-WR-CALDESC:Events for ProArts Playhouse
REFRESH-INTERVAL;VALUE=DURATION:PT1H
X-Robots-Tag:noindex
X-PUBLISHED-TTL:PT1H
BEGIN:VTIMEZONE
TZID:Pacific/Honolulu
BEGIN:STANDARD
TZOFFSETFROM:-1000
TZOFFSETTO:-1000
TZNAME:HST
DTSTART:20250101T000000
END:STANDARD
END:VTIMEZONE
BEGIN:VEVENT
DTSTART;TZID=Pacific/Honolulu:20260514T193000
DTEND;TZID=Pacific/Honolulu:20260514T210000
DTSTAMP:20260419T194351
CREATED:20260409T062035Z
LAST-MODIFIED:20260409T062535Z
UID:13756-1778787000-1778792400@proartsmaui.org
SUMMARY:Sheryl Renee Series: Moving On... The Greatest Breakup Songs Ever!
DESCRIPTION:Sheryl Renee Series: The Greatest Breakup Songs Ever!\nFeaturing Vocalist Jason Schwartz\n			\n				\n				\n				\n				\n				Thursday\, May 14\, 2026Starts at 7:30pmRun-time: 75 minutes – no intermission\n			\n				BUY TICKETS\n			\n				\n				\n				\n				\n				About the Show\nPresented by Sheryl Renee Productions\, ProArts Playhouse\, and Jazz Maui.\nThe joy and pain of love and loss come to life through some of the most iconic songs ever written. Broadway World Hawaii award-winning vocalist Sheryl Renee\, returns with the latest installment of her popular ProArts Cabaret series\, blending music and history in a delightful way. She’ll be joined by long-time Maui resident and Neutral Zone host (Akaku 88.5)\, crooner Jason Schwartz.\nwww.JazzMaui.org\nwww.MauiNeutralZone.com\nAbout the Artist\nSHERYL RENEE\nThe dynamic versatility of this tenacious Colorado talent comes from a lifetime in and around the entertainment business. An audience favorite\, Sheryl moves effortlessly between music genres\, artistic avenues\, and her entrepreneurial pursuits. Known as “The Lady with the Golden Voice”\, Sheryl’s vocals can be heard on hundreds of recordings and commercials. From performing for President Barack Obama\, the Colorado Symphony Orchestra\, to the over 40 theatrical productions this award-winning actress has appeared in\, Sheryl has enjoyed a dazzling career and has no intention of slowing down\, any time soon. More at www.sherylrenee.com\nFEATURED GUEST – JASON SCHWARTZ\nJason Schwartz has been on Maui since 1988\, and during those years he has been in mortgage and real estate\, but is widely known for two local television series: MAMA PRESENTS and THE NEUTRAL ZONE.\nBefore Maui\, Jason worked The Solar Exchange and Energy Exchange in Los Angeles\, and performed and produced music in the late 70s and early 80s. On Maui\, Jason was cast in Iao Theatre productions of Reservoir Dogs and The Best Little Whorehouse in Texas. As a singer he has jumped onstage with Lono\, and Louise Lambert the Queen of Swing.Jason is happy to be included in a show with a talent like the fabulous Sheryl Renee.\n  \n			\n			\n				\n				\n				\n				\n			\n			\n				\n				\n				\n				\n				\n				\n				\n				\n				\n				Ticket Information\nPremium Seating:\n$42.40 Extra large and comfy front row seats from A1 to A6 with side tables\nPreferred Seating:\n$37.10 Best-view seating in either the Front row (seats A7 to A15) OR the front row of any elevated section\nRegular Seating:\n$31.80\nPartially-Obstructed View Seating:\n$26.50\nFor information on our Access for All initiative\, click HERE.\n			\n				BUY TICKETS\n			\n			\n				\n				\n			\n				\n				\n				\n				\n				\n				\n				\n				\n				\n				\n				\n				\n				\n				BACK TO UPCOMING\n			\n			\n				\n				\n				\n				\n			\n				\n				\n				\n				\n				\n				\n			\n				\n				\n				\n				\n				\n				\n				\n				\n				\n				\n					\n						Search for:
URL:https://proartsmaui.org/event/sheryl-renee-series-may-14-2026/
LOCATION:ProArts Playhouse\, 1280 South Kihei Road\, Kihei\, HI\, 96753\, United States
CATEGORIES:Music
ATTACH;FMTTYPE=image/jpeg:https://proartsmaui.org/wp-content/uploads/2026/04/SRP_MovingOn_5.14.26-8.75-x-8.75-in.jpg
END:VEVENT
BEGIN:VEVENT
DTSTART;TZID=Pacific/Honolulu:20260517T140000
DTEND;TZID=Pacific/Honolulu:20260517T160000
DTSTAMP:20260419T194351
CREATED:20260228T031316Z
LAST-MODIFIED:20260404T025153Z
UID:12721-1779026400-1779033600@proartsmaui.org
SUMMARY:Heavenly Blues 25th Year Anniversary Album Release
DESCRIPTION:Heavenly Blues 25th Year Anniversary Album Release\n			\n				\n				\n				\n				\n				Sunday\, May 17\, 2026 at 2:00pmRun time: 2 hours including intermission\n			\n				BUY TICKETS\n			\n				\n				\n				\n				\n				Presented by Hipnautical and ProArts Playhouse\nFeaturing Special Guest Elizabeth Fellows\n\n\n\nHarp and guitar duo Hipnautical\, Bobbie Jo & Roger Curley. Dynamic bluesy\, folksy\, rockin’ fun will present an unforgettable evening featuring songs from Bobbie Jo’s album “Heavenly Blues”. An evening of originals and choice covers. Enjoy story time and sailing adventures told and shared.\n\n\n\nFor information on our Access for All initiative\, visit the About section on our website: https://proartsmaui.org/access-for-all/\n			\n			\n				\n				\n				\n				\n			\n			\n				\n				\n				\n				\n				\n				\n				\n				\n				\n				Ticket Information\nPremium Seating:\n$31.80 Extra large and comfy front row seats from A1 to A6 with side tables\nPreferred Seating:\n$26.50 Best-view seating in either the Front row (seats A7 to A15) OR the front row of any elevated section\nRegular Seating:\n$21.20\nPartially-Obstructed View Seats:\n$16\nFor information on our Access for All initiative\, click HERE\n			\n				BUY TICKETS\n			\n			\n				\n				\n			\n				\n				\n				\n				\n				\n				\n				\n				\n				\n				\n				\n				\n				\n			\n				\n				\n				\n				\n				\n				\n				\n				\n				\n				[events-calendar-search placeholder="Search Events" show-events="5" disable-past-events="false" layout="medium" content-type="advance"]\n			\n				BACK TO UPCOMING
URL:https://proartsmaui.org/event/heavenly-blues-25th-year-anniversary-album-release-may-17-2026/
LOCATION:ProArts Playhouse\, 1280 South Kihei Road\, Kihei\, HI\, 96753\, United States
CATEGORIES:Music
ATTACH;FMTTYPE=image/jpeg:https://proartsmaui.org/wp-content/uploads/2026/02/unnamed-e1772248363660.jpg
END:VEVENT
BEGIN:VEVENT
DTSTART;TZID=Pacific/Honolulu:20260520T190000
DTEND;TZID=Pacific/Honolulu:20260520T203000
DTSTAMP:20260419T194352
CREATED:20260327T024255Z
LAST-MODIFIED:20260417T015405Z
UID:13460-1779303600-1779309000@proartsmaui.org
SUMMARY:John Cruz Island Style Series
DESCRIPTION:John Cruz Island Style Series\n			\n				\n				\n				\n				\n				Wednesday\, May 20\, 2026Starts at 7:00pmRun time: 90 minutes with no intermission\n			\n				BUY TICKETS\n			\n				\n				\n				\n				\n				Presented by Hawaiian Airlines and sponsored by Wailea Beach Resort\n			\n				\n				\n				\n				\n				About\nCome check out Nā Hōkū Hanohano Award-winner John Cruz at home in his element – performing live in a premier listening room where you see\, hear and feel every note!\nJohn Cruz built his career telling stories through songs about everyday people and experiences\, celebrating the ties that bind us all and in the process\, becoming one of the most beloved and valued artists in Hawaii. Over 1 million listeners stream Cruz’s recordings every year\, and he is a multi-time Nā Hōkū Hanohano Award-winner (‘97\, ‘08\, ‘22)\, as well as a contributor to the GRAMMY® award-winning album ‘Slack Key Guitar\, Vol. 2.’ At ProArts Maui\, every attendee gets to fully tap into Cruz’s talent and spirit and embrace the power of love\, compassion and common ground.\n“Performing for an audience has always been a core part of my music and life\, and it doesn’t get any better than ProArts Maui. Located right in my ‘front yard’ and feels like playing in my living room – ‘Island Style\,’ connecting with each and every person.” – John Cruz\n“A musical journey… always an unpredictable ride.” – The New York Times\nPhoto Credit: Mark Tarone \n  \n			\n			\n				\n				\n				\n				\n			\n			\n				\n				\n				\n				\n				\n				\n				\n				\n				\n				Ticket Information\nPremium Seating:\n$47.70 Extra large and comfy front row seats from A1 to A6 with side tables\nPreferred Seating:\n$42.40 Best-view seating in either the Front row (seats A7 to A15) OR the front row of any elevated section\nRegular Seating:\n$37.10\nPartially-Obstructed View Seats:\n$31.80\nDiscounts:\nFor information on our Access for All initiative\, click HERE\n			\n				BUY TICKETS\n			\n			\n				\n				\n			\n				\n				\n				\n				\n				\n				\n				\n				\n				\n				\n				\n				\n				\n			\n				\n				\n				\n				\n				\n				\n				\n				\n				\n				[events-calendar-search placeholder="Search Events" show-events="5" disable-past-events="false" layout="medium" content-type="advance"]\n			\n				BACK TO UPCOMING
URL:https://proartsmaui.org/event/john-cruz-island-style-series-may-20-2026/
LOCATION:ProArts Playhouse\, 1280 South Kihei Road\, Kihei\, HI\, 96753\, United States
CATEGORIES:Music
ATTACH;FMTTYPE=image/jpeg:https://proartsmaui.org/wp-content/uploads/2026/03/John-Cruz-WED-square-e1773365179363.jpg
END:VEVENT
BEGIN:VEVENT
DTSTART;TZID=Pacific/Honolulu:20260714T190000
DTEND;TZID=Pacific/Honolulu:20260714T203000
DTSTAMP:20260419T194352
CREATED:20260331T223353Z
LAST-MODIFIED:20260331T223358Z
UID:13643-1784055600-1784061000@proartsmaui.org
SUMMARY:The R.E. Metoyer Blues\, Rock & Soul Revue Live on Electric Tuesday
DESCRIPTION:The R.E. Metoyer Blues\, Rock & Soul Revue on Electric Tuesday\n			\n				\n				\n				\n				\n				Tuesday\, July 14\, 2026Starts at 7:00pmRun time: 90 minutes – no intermission\n			\n				BUY TICKETS\n			\n				\n				\n				\n				\n				About the ShowPresented by ProArts Playhouse\nR.E. Metoyer-Vocals\, Guitar; Tim Hackbarth-Bass; Martin Fera-Drums; David Fraser-Keyboards; Daniel Weirich-Trombone\nThe BRS Revue is celebrating 14 years of sharing blues\, rock and soul worldwide. Listen to their latest releases on Spotify\, iTunes\, YouTube or anywhere you stream your music.\nFollow R.E. Metoyer on Instagram and Facebook!\n \n			\n			\n				\n				\n				\n				\n			\n			\n				\n				\n				\n				\n				\n				\n				\n				\n				\n				Ticket Information\nPremium Seating:\n$37.10 Extra large and comfy front row seats from A1 to A6 with side tables\nPreferred Seating:\n$31.80 Best-view seating in either the Front row (seats A7 to A15) OR the front row of any elevated section\nRegular Seating:\n$26.50\nPartially-Obstructed View Seats:\n$21.20\nFor information on our Access for All initiative\, click HERE\n			\n				BUY TICKETS\n			\n			\n				\n				\n			\n				\n				\n				\n				\n				\n				\n				\n				\n				\n				\n				\n				\n				\n			\n				\n				\n				\n				\n				\n				\n				\n				\n				\n				[events-calendar-search placeholder="Search Events" show-events="5" disable-past-events="false" layout="medium" content-type="advance"]\n			\n				BACK TO UPCOMING
URL:https://proartsmaui.org/event/the-r-e-metoyer-blues-rock-soul-revue-live-on-electric-tuesday-jul-14-2026/
LOCATION:ProArts Playhouse\, 1280 South Kihei Road\, Kihei\, HI\, 96753\, United States
CATEGORIES:Music
ATTACH;FMTTYPE=image/jpeg:https://proartsmaui.org/wp-content/uploads/2026/02/RE-metoyer-Mar-2026-square-e1774995937735.jpg
END:VEVENT
END:VCALENDAR