BEGIN:VCALENDAR
VERSION:2.0
PRODID:-//ProArts Playhouse - ECPv6.15.20//NONSGML v1.0//EN
CALSCALE:GREGORIAN
METHOD:PUBLISH
X-WR-CALNAME:ProArts Playhouse
X-ORIGINAL-URL:https://proartsmaui.org
X-WR-CALDESC:Events for ProArts Playhouse
REFRESH-INTERVAL;VALUE=DURATION:PT1H
X-Robots-Tag:noindex
X-PUBLISHED-TTL:PT1H
BEGIN:VTIMEZONE
TZID:Pacific/Honolulu
BEGIN:STANDARD
TZOFFSETFROM:-1000
TZOFFSETTO:-1000
TZNAME:HST
DTSTART:20250101T000000
END:STANDARD
END:VTIMEZONE
BEGIN:VEVENT
DTSTART;TZID=Pacific/Honolulu:20260503T140000
DTEND;TZID=Pacific/Honolulu:20260503T153000
DTSTAMP:20260423T010402
CREATED:20260420T090032Z
LAST-MODIFIED:20260422T021540Z
UID:13902-1777816800-1777822200@proartsmaui.org
SUMMARY:Wings Unleashed
DESCRIPTION:Wings Unleashed\n			\n				\n				\n				\n				\n				Sunday\, May 3\, 2026\nStarts at 2:00 pm\nRun time: 75 minutes with No Intermission\n			\n				BUY TICKETS\n			\n				\n				\n				\n				\n				Presented by ProArts Playhouse\n\n			\n				\n				\n				\n				\n				\n\n\n\n“She can sing\, she can charm\, she can thunder…” Gramophone\n“…a virtuoso in the profoundest sense…” “It goes straight to the heart!” FAZ (Frankfurter Allgemeiner Zeitung)\n“One of those people of extraordinary ability whom we hope for but rarely see.” Arnold Steinhardt\n“She plays the way a bird sings” “God-given” Lazar Berman\n\n\n\n\n\n			\n			\n				\n				\n				\n				\n			\n			\n				\n				\n				\n				\n				\n				\n				\n				\n				\n				Ticket Information\nPremium Seating:\n$42.40 Extra large and comfy front row seats from A1 to A6 with side tables\nPreferred Seating:\n$37.10 Best-view seating in either the Front row (seats A7 to A15) OR the front row of any elevated section\nRegular Seating:\n$31.80\nPartially-Obstructed View Seats:\n$26.50\n$5 OFF for Kama’aina (with Valid Student ID)\nFor information on our Access for All initiative\, click HERE\n			\n				BUY TICKETS\n			\n			\n				\n				\n			\n				\n				\n				\n				\n				\n				\n				\n				\n				\n				\n				\n				\n				\n			\n				\n				\n				\n				\n				\n				\n				\n				\n				\n				[events-calendar-search placeholder="Search Events" show-events="5" disable-past-events="false" layout="medium" content-type="advance"]\n			\n				BACK TO UPCOMING
URL:https://proartsmaui.org/event/wings-unleashed-may-3-2026/
LOCATION:ProArts Playhouse\, 1280 South Kihei Road\, Kihei\, HI\, 96753\, United States
CATEGORIES:Music
ATTACH;FMTTYPE=image/jpeg:https://proartsmaui.org/wp-content/uploads/2026/04/Nadejda-Vlaeva-8715r-scaled-e1776389967678.jpg
END:VEVENT
END:VCALENDAR