BEGIN:VCALENDAR
VERSION:2.0
PRODID:-//ProArts Playhouse - ECPv6.15.20//NONSGML v1.0//EN
CALSCALE:GREGORIAN
METHOD:PUBLISH
X-ORIGINAL-URL:https://proartsmaui.org
X-WR-CALDESC:Events for ProArts Playhouse
REFRESH-INTERVAL;VALUE=DURATION:PT1H
X-Robots-Tag:noindex
X-PUBLISHED-TTL:PT1H
BEGIN:VTIMEZONE
TZID:Pacific/Honolulu
BEGIN:STANDARD
TZOFFSETFROM:-1000
TZOFFSETTO:-1000
TZNAME:HST
DTSTART:20240101T000000
END:STANDARD
END:VTIMEZONE
BEGIN:VEVENT
DTSTART;TZID=Pacific/Honolulu:20250816T193000
DTEND;TZID=Pacific/Honolulu:20250816T193000
DTSTAMP:20260421T010858
CREATED:20250722T085915Z
LAST-MODIFIED:20250722T085918Z
UID:9668-1755372600-1755372600@proartsmaui.org
SUMMARY:A Classical Evening Salon Concert
DESCRIPTION:A Classical Evening Salon Concert\n			\n				\n				\n				\n				\n				Saturday\, August 16\, 2025 Starts at 7:30pm Run time: 75 minutes with No Intermission\n			\n				BUY TICKETS\n			\n				\n				\n				\n				\n				Presented by ProArts Playhouse\nFeaturing Andrew Wu on ViolinTeresa Skinner on ViolaPhillip Kirchman on Piano\nAn evening of classical chamber music presented in a relaxed salon concert style. Get to know your local Maui musicians and more about the music being presented.\n			\n			\n				\n				\n				\n				\n			\n			\n				\n				\n				\n				\n				\n				\n				\n				\n				\n				Ticket Information\nPremium Seating:\n$40 Extra large and comfy front row seats from A1 to A6 with side tables\nPreferred Seating:\n$35 Best-view seating in either the Front row (seats A7 to A15) OR the front row of any elevated section\nRegular Seating:\n$25\nPartially-Obstructed View Seats:\n$20\nFor information on our Access for All initiative\, click HERE\n			\n				BUY TICKETS\n			\n			\n				\n				\n			\n				\n				\n				\n				\n				\n				\n				\n				\n				\n				\n				\n				\n				\n			\n				\n				\n				\n				\n				\n				\n				\n				\n				\n				[events-calendar-search placeholder="Search Events" show-events="5" disable-past-events="false" layout="medium" content-type="advance"]\n			\n				BACK TO UPCOMING
URL:https://proartsmaui.org/event/a-classical-evening-salon-concert/
LOCATION:ProArts Playhouse\, 1280 South Kihei Road\, Kihei\, HI\, 96753\, United States
CATEGORIES:Music
ATTACH;FMTTYPE=image/jpeg:https://proartsmaui.org/wp-content/uploads/2025/07/Classic-salon-square.jpg
END:VEVENT
END:VCALENDAR