BEGIN:VCALENDAR
VERSION:2.0
PRODID:-//ProArts Playhouse - ECPv6.15.20//NONSGML v1.0//EN
CALSCALE:GREGORIAN
METHOD:PUBLISH
X-WR-CALNAME:ProArts Playhouse
X-ORIGINAL-URL:https://proartsmaui.org
X-WR-CALDESC:Events for ProArts Playhouse
REFRESH-INTERVAL;VALUE=DURATION:PT1H
X-Robots-Tag:noindex
X-PUBLISHED-TTL:PT1H
BEGIN:VTIMEZONE
TZID:Pacific/Honolulu
BEGIN:STANDARD
TZOFFSETFROM:-1000
TZOFFSETTO:-1000
TZNAME:HST
DTSTART:20240101T000000
END:STANDARD
END:VTIMEZONE
BEGIN:VEVENT
DTSTART;TZID=Pacific/Honolulu:20250515T193000
DTEND;TZID=Pacific/Honolulu:20250515T213000
DTSTAMP:20260419T143448
CREATED:20250415T001531Z
LAST-MODIFIED:20250515T233913Z
UID:8803-1747337400-1747344600@proartsmaui.org
SUMMARY:Amy Hānaiali`i
DESCRIPTION:Amy Hānaiali`i\n			\n				\n				\n				\n				\n				Thursday\, May 15\, 2025Starts at 7pmRun time: 75 minutes with no intermission\n			\n				BUY TICKETS\n			\n				\n				\n				\n				\n				About\nEnjoy an intimate performance with  Amy Hānaiali`i\, Hawai`i’s top selling female vocalist of all time. Plus\, check out deVine Wine Lounge around the corner for a pre-show meet and greet wine tasting with Amy and her wines!\nSeparate registration required at https://devinewinelounge.com/amy-hanaialii-meet-and-greet/\nWith 6 Grammy Nominations and 18 Nā Hōkū Hanohano Awards. She has performed for 2 of President Obama’s inaugural Balls\, performed for the Dalai Lama and first entertainer in the world to perform in The Great Hall of the People in Tiananman Square in China. Amy has played for sold-out crowds in Europe\, Japan and all across America and French Polynesia.\nHānaiali‘i’s talent emerges from a disciplined classical training\, fused powerhouse vocals\, and honoring her family’s worldly heritage and rooted ancestral responsibility. She is a story teller.\nHer diverse success and cultural responsibility\, provide clear recognition by Hawai‘i’s music community and fans with universal acceptance. All of Amy’s albums have validated commercial success by consistently placing her at the top of the World Album Billboard charts\, with 15 albums.\nFor information on our Access for All initiative\, please visit our website. \n			\n			\n				\n				\n				\n				\n			\n			\n				\n				\n				\n				\n				\n				\n				\n				\n				\n				Ticket Information\nPremium Seating:\n$60 Extra large and comfy front row seats from A1 to A6 with side tables\nPreferred Seating:\n$50 Best-view seating in either the Front row (seats A7 to A15) OR the front row of any elevated section\nRegular Seating:\n$40\nPartially-Obstructed View Seats:\n$35\nDiscounts: $5 off for Kama’aina\nFor information on our Access for All initiative\, click HERE\n			\n				BUY TICKETS\n			\n			\n				\n				\n			\n				\n				\n				\n				\n				\n				\n				\n				\n				\n				\n				\n				\n				\n			\n				\n				\n				\n				\n				\n				\n				\n				\n				\n				[events-calendar-search placeholder="Search Events" show-events="5" disable-past-events="false" layout="medium" content-type="advance"]\n			\n				BACK TO UPCOMING
URL:https://proartsmaui.org/event/amy-hanaialii-may-25-25/
LOCATION:ProArts Playhouse\, 1280 South Kihei Road\, Kihei\, HI\, 96753\, United States
CATEGORIES:Music
ATTACH;FMTTYPE=image/heic:https://proartsmaui.org/wp-content/uploads/2025/02/Amy-Hanaialii-Photo-for-Pro-Arts-e1740357786612.jpg
END:VEVENT
END:VCALENDAR