BEGIN:VCALENDAR
VERSION:2.0
PRODID:-//ProArts Playhouse - ECPv6.15.20//NONSGML v1.0//EN
CALSCALE:GREGORIAN
METHOD:PUBLISH
X-WR-CALNAME:ProArts Playhouse
X-ORIGINAL-URL:https://proartsmaui.org
X-WR-CALDESC:Events for ProArts Playhouse
REFRESH-INTERVAL;VALUE=DURATION:PT1H
X-Robots-Tag:noindex
X-PUBLISHED-TTL:PT1H
BEGIN:VTIMEZONE
TZID:Pacific/Honolulu
BEGIN:STANDARD
TZOFFSETFROM:-1000
TZOFFSETTO:-1000
TZNAME:HST
DTSTART:20240101T000000
END:STANDARD
END:VTIMEZONE
BEGIN:VEVENT
DTSTART;TZID=Pacific/Honolulu:20250323T193000
DTEND;TZID=Pacific/Honolulu:20250323T210000
DTSTAMP:20260420T215259
CREATED:20250226T012646Z
LAST-MODIFIED:20250312T223939Z
UID:8095-1742758200-1742763600@proartsmaui.org
SUMMARY:Gutsy Women: The Legacy
DESCRIPTION:Gutsy Women: The Legacy\nA Celebration of Women’s History Month\n			\n				\n				\n				\n				\n				Sunday\, March 23\, 2025Starts at 7:30pmRun-time: 90 minutes – no intermission\n			\n				BUY TICKETS\n			\n				\n				\n				\n				\n				About the Show\nGUTSY WOMEN celebrates women’s history month with music\, song\, poetry\, drama and humor by a wide array of Maui talent\, including Estaire Godinez\, Rita Massey\, Mary Anne Anderson\, Riley Franco\, Bella Moline\, the Sugar Kittens\, the ladies of Free Range Comedy\, and more.\nHosted by Amorah St. John\, with music direction by Maui’s queen of swing\, Louise Lambert.\n			\n			\n				\n				\n				\n				\n			\n			\n				\n				\n				\n				\n				\n				\n				\n				\n				\n				Ticket Information\nPremium Seating:\n$35 Extra large and comfy front row seats from A1 to A6 with side tables\nPreferred Seating:\n$30 Best-view seating in either the Front row (seats A7 to A15) OR the front row of any elevated section\nRegular Seating:\n$25\nPartially-Obstructed View Seating:\n$20\nFor information on our Access for All initiative\, click HERE.\n			\n				BUY TICKETS\n			\n			\n				\n				\n			\n				\n				\n				\n				\n				\n				\n				\n				\n				\n				\n				\n				\n				\n				BACK TO UPCOMING\n			\n			\n				\n				\n				\n				\n			\n				\n				\n				\n				\n				\n				\n			\n				\n				\n				\n				\n				\n				\n				\n				\n				\n				\n					\n						Search for:
URL:https://proartsmaui.org/event/gutsy-women-the-legacy/
LOCATION:ProArts Playhouse\, 1280 South Kihei Road\, Kihei\, HI\, 96753\, United States
CATEGORIES:Music
ATTACH;FMTTYPE=image/jpeg:https://proartsmaui.org/wp-content/uploads/2025/02/Gutsy-Women-e1769678383761.jpg
END:VEVENT
END:VCALENDAR