BEGIN:VCALENDAR
VERSION:2.0
PRODID:-//ProArts Playhouse - ECPv6.15.20//NONSGML v1.0//EN
CALSCALE:GREGORIAN
METHOD:PUBLISH
X-WR-CALNAME:ProArts Playhouse
X-ORIGINAL-URL:https://proartsmaui.org
X-WR-CALDESC:Events for ProArts Playhouse
REFRESH-INTERVAL;VALUE=DURATION:PT1H
X-Robots-Tag:noindex
X-PUBLISHED-TTL:PT1H
BEGIN:VTIMEZONE
TZID:Pacific/Honolulu
BEGIN:STANDARD
TZOFFSETFROM:-1000
TZOFFSETTO:-1000
TZNAME:HST
DTSTART:20230101T000000
END:STANDARD
END:VTIMEZONE
BEGIN:VEVENT
DTSTART;TZID=Pacific/Honolulu:20241229T140000
DTEND;TZID=Pacific/Honolulu:20241229T153000
DTSTAMP:20260420T015053
CREATED:20241205T113129Z
LAST-MODIFIED:20241205T125842Z
UID:6991-1735480800-1735486200@proartsmaui.org
SUMMARY:Hawaiian Arts and Culture Series: Lei’ohu Ryder and Maydeen Ku’uipo ʻĪao
DESCRIPTION:ProArts Playhouse Hawaiian Arts & Culture Series presents Lei’ohu Ryder and Maydeen Ku’uipo ʻĪao\n			\n				\n				\n				\n				\n				Sunday\, December 29\, 2024\nStarts at 2:00pm\n			\n				RESERVE SEATS\n			\n				\n				\n				\n				\n				About the Show\nLei’ohu & Maydeen Lei’ohu Ryder and Maydeen Ku’uipo ʻĪao are inspired by the sacredness of all life and the rhythm of nature on our beautiful Honua. Their musical journey has been a tapestry of weaving experiences honoring people\, places & the divine. They celebrate life by embracing the spirit of aloha within the one ocean of our collective hearts.\nCome enjoy a beautiful afternoon of Hawaiiana music and learn what the songs mean to the artists through their songs\, as well as a Talk Story session with our host.\nThe ProArts Hawaiian Arts and Culture Series is brought to you via our Access for All Programs\, thanks to funding from Arnold Jacobson & Jennifer Meyers and the County of  Maui’s Office of  Economic Development.\n\n			\n			\n				\n				\n				\n				\n			\n			\n				\n				\n				\n				\n				\n				\n				\n				\n				\n				Ticket Information\nFREE ADMISSION\nSeating is assigned\, so make your reservation now!\n			\n				RESERVE SEATS\n			\n			\n				\n				\n			\n				\n				\n				\n				\n				\n				\n				\n				\n				\n				\n				\n				\n				\n			\n				\n				\n				\n				\n				\n				\n				\n				\n				\n				[events-calendar-search placeholder="Search Events" show-events="5" disable-past-events="false" layout="medium" content-type="advance"]\n			\n				BACK TO UPCOMING
URL:https://proartsmaui.org/event/hawaiian-arts-and-culture-series-leiohu-ryder-and-maydeen-kuuipo-%ca%bbiao/
LOCATION:ProArts Playhouse\, 1280 South Kihei Road\, Kihei\, HI\, 96753\, United States
CATEGORIES:Music,Special Events
ATTACH;FMTTYPE=image/jpeg:https://proartsmaui.org/wp-content/uploads/2024/12/HACS-Leiohu-square.jpg
END:VEVENT
END:VCALENDAR