BEGIN:VCALENDAR
VERSION:2.0
PRODID:-//ProArts Playhouse - ECPv6.15.20//NONSGML v1.0//EN
CALSCALE:GREGORIAN
METHOD:PUBLISH
X-ORIGINAL-URL:https://proartsmaui.org
X-WR-CALDESC:Events for ProArts Playhouse
REFRESH-INTERVAL;VALUE=DURATION:PT1H
X-Robots-Tag:noindex
X-PUBLISHED-TTL:PT1H
BEGIN:VTIMEZONE
TZID:Pacific/Honolulu
BEGIN:STANDARD
TZOFFSETFROM:-1000
TZOFFSETTO:-1000
TZNAME:HST
DTSTART:20230101T000000
END:STANDARD
END:VTIMEZONE
BEGIN:VEVENT
DTSTART;TZID=Pacific/Honolulu:20241227T193000
DTEND;TZID=Pacific/Honolulu:20241227T210000
DTSTAMP:20260419T231739
CREATED:20241203T185432Z
LAST-MODIFIED:20241203T185436Z
UID:6955-1735327800-1735333200@proartsmaui.org
SUMMARY:Jazz Maui presents... the Belford Hernandez Quartet
DESCRIPTION:Jazz Maui presents… the Belford Hernandez Quartet\n			\n				\n				\n				\n				\n				Friday\, December 27\, 2024Starts at 7:30pmRun time: 90 minutes with no intermission\n			\n				BUY TICKETS\n			\n				\n				\n				\n				\n				Presented by ProArts Playhouse and Jazz Maui…\nAn evening of original jazz music and a few classic standards from the Chicago based group\, the Belford Hernandez Quartet\nBelford Hernandez – PianoCraig Roselieb – SaxophonesAshton Yarbrough – BassNolan Wren – Drumswith special guests Joy Belt-Roselieb – Vocals\, and Pete Ellman – Trumpet\nBelford is a composer\, pianist and current choir director for Willowbrook High School\, and the Cantores Community Choir. Craig is a recently retired band director and an active composer and saxophonist. Ashton Yarbrough\, bass and Nolan Wren\, drums are Maui based musicians. Joy Belt-Roselieb is a jazz vocalist and choir director at Downers Grove South High School\, and Pete Ellman owns Ellman’s Music store in Naperville\, Illinois and leads the Pete Ellman Big Band\, NFP\nCheck them out at https://www.youtube.com/watch?v=y31uqQfqQN8\nBios\nBelford Hernandez – A native of Venezuela\, Belford Hernandez is an accomplished pianist\, composer\, and conductor. He is the current choir director at Willowbrook High School in Villa Park\, Illinois\, and is also the director and founder of the Cantores Community Choir\, located in Downers Grove\, Illinois. Belford has recorded several solo piano albums\, and is the jazz pianist for the Belford Hernandez Quartet. The group’s latest recording features several of his original compositions for the quartet\, as well as solo piano\, and as a duo with Craig Roselieb on saxophone. As a composer\, Belford has also written and published several choral and instrumental works which can be found on his website at www.belfordhernandez.com\nCraig Roselieb – Having retired in 2018 from a 33-year career teaching high school bands in Downers Grove\, Illinois\, Craig is now an active jazz saxophonist\, teacher\, clinician and composer. Performing weekly on Alto Saxophone with the Pete Ellman Big Band NFP www.pebb.net in Naperville\, IL\, the groups latest album\, “Live at The Venue” features 8 of his original jazz big band compositions. The big band has recently shared the stage with several jazz artists including Jeff Coffin\, Dave Weckl\, Louis Dowdswell\, Bob Reynolds\, Ernie Watts\, Brad Goode\, Steve Wiest\, and Tom “Bones” Malone. As a member of the Belford Hernandez Quartet\, Craig plays Soprano\, Alto and Tenor Saxophones. The quartet has also recorded several of his original jazz compositions that have been rearranged for small jazz combos. His website: www.rosiemusic.com makes all of these recordings available\, as well as ePrint copies of the music for jazz groups of all ages.\n \nJoy Belt-Roselieb – With multiple talents and experiences in musical theater\, vocal jazz and classical soprano singing\, Joy has dedicated the last 25 years of her career to teaching vocal music at South High School in Downers Grove\, Illinois. https://www.instagram.com/dgschoirs/ Her highly advanced students have produced amazing concert performances year after year in places from Illinois All-State Festivals\, to venues in New York\, London\, and Austria. As a musician\, Joy is equally at home on stage as a big band jazz vocalist\, directing high school musicals and choral ensembles\, or as a soprano soloist with professional choirs and orchestras. Her passion for singing can be heard in the rich and smooth tones of her jazz voice all the way through the thrilling coloratura of her operatic brilliance.\n			\n			\n				\n				\n				\n				\n			\n			\n				\n				\n				\n				\n				\n				\n				\n				\n				\n				Ticket Pricing\nPremium:\n$40 Extra large and comfy front row seats from A1 to A6 with side tables\nPreferred:\n$35 Best-view seating in either the front row (seats A7 to A15) OR the front row of any elevated section\nRegular:\n$25\nSlightly-Obstructed View:\n$20\nTeens\nPremium: $25Preferred: $20Regular: $15Partially-Obstructed View: $12\nKeiki\nPremium: $20Preferred: $15Regular: $12Partially-Obstructed View: $10\nFor information on our Access for All initiative\, click HERE\n			\n				BUY TICKETS\n			\n			\n				\n				\n			\n				\n				\n				\n				\n				\n				\n				\n				\n				\n				\n				\n				\n				\n			\n				\n				\n				\n				\n				\n				\n				\n				\n				\n				[events-calendar-search placeholder="Search Events" show-events="5" disable-past-events="false" layout="medium" content-type="advance"]\n			\n				BACK TO UPCOMING
URL:https://proartsmaui.org/event/jazz12-27-24/
LOCATION:ProArts Playhouse\, 1280 South Kihei Road\, Kihei\, HI\, 96753\, United States
CATEGORIES:Music
ATTACH;FMTTYPE=image/jpeg:https://proartsmaui.org/wp-content/uploads/2024/12/Belford-Hernandez-Quartet-Square.jpg
END:VEVENT
END:VCALENDAR