BEGIN:VCALENDAR
VERSION:2.0
PRODID:-//ProArts Playhouse - ECPv6.15.20//NONSGML v1.0//EN
CALSCALE:GREGORIAN
METHOD:PUBLISH
X-ORIGINAL-URL:https://proartsmaui.org
X-WR-CALDESC:Events for ProArts Playhouse
REFRESH-INTERVAL;VALUE=DURATION:PT1H
X-Robots-Tag:noindex
X-PUBLISHED-TTL:PT1H
BEGIN:VTIMEZONE
TZID:Pacific/Honolulu
BEGIN:STANDARD
TZOFFSETFROM:-1000
TZOFFSETTO:-1000
TZNAME:HST
DTSTART:20230101T000000
END:STANDARD
END:VTIMEZONE
BEGIN:VEVENT
DTSTART;TZID=Pacific/Honolulu:20241215T190000
DTEND;TZID=Pacific/Honolulu:20241215T210000
DTSTAMP:20260419T100935
CREATED:20241121T130043Z
LAST-MODIFIED:20241125T184739Z
UID:6739-1734289200-1734296400@proartsmaui.org
SUMMARY:Anto the Italian Whisperer and the Zen Artists
DESCRIPTION:Anto the Italian Whisperer and the Zen Artists\n			\n				\n				\n				\n				\n				Sunday\, December 15\, 2024Starts at 7:00pmRun time: 2 hours with an intermission\n			\n				BUY TICKETS\n			\n				\n				\n				\n				\n				Embark on a meditative healing journey of music\, poetry\, dance and story-telling.\n			\n				\n				\n				\n				\n				About\nPresented by ProArts Playhouse and Mana’o Radio\nAnto the Italian Whisperer & the Zen Artists will present Anto’s debut music album “Sogno” (Dream).\nFor this event\, Anto will be accompanied by the Zen Artists: Lady Kiah on trumpet\, Andrea Walls on violin\, Himoko the dancer. Anto and the Zen artists will invite you to embark on a meditative healing journey of awakening your sensorial presence through sound\, music\, Italian Whispers\, poetry in Italian and Neapolitan\, and story-telling. Anto shares about his healing journey from Mnt. Vesuvius\, gulf of Naples in Italy\, to Tahoma in the Pacific Northwest\, and about his connection to Haleakala and Maui\, Hawaii islands.The album Sogno (66mins\, 9 tracks) is available on Bandcamp and as well all other digital platforms\, e\,g\, Spotify.\nAnto Ferrante the Italian Whisperer is an Italian composer\, guitarist\, singer & song-writer who lives in Seattle\, Washington. Composing in English\, Italian and Sanskrit\, his lyrics express his heritage (Italian) and life journey in Italy and West Coast of the United States as well as his love of Buddhism and Eastern philosophies. His multi-instrumental songs are instinctual and melancholic with roots in the Mediterranean. He uses music composition as a therapeutic and contemplative practice to awaken his heart and hold his emotions with compassion. Anto is also the founder and artistic curator of the Zen Arts Group (www.zagseattle.org). Through his music and hosting house concerts Anto wishes to inspire others to explore and express their creativity\, embodiment and emotions\, and to provide a message of hope. To discover more about his music visit www.zagseattle.org/anto.\nKiah Abendroth\, “Lady Kiah”\, is a third generation female trumpet player. In addition to performing in diverse genres on the trumpet all around the USA\, Lady Kiah is also a muti-instrumentalist and loop artist\, dedicated to uplifting hearts and spreading love through sound. Find her online at www.linktr.ee/kiahmusic.\nAndrea Walls is a classically trained violinist who is began playing at the age of 8. She is versed in many styles including Jazz\, Rock\, Middle Eastern\, African\, Latin & Pop. She’s been living & playing professionally on Maui for the last 24 years.\nHIMIKO is a dancer. Himiko began her study of classic ballet and Japanese calligraphy at age three. Since then\, her dance studies have included Contemporary\, Duncan Dance\, Butoh and Ballroom. She collaborates with other artists to bring together her own style of dance with Japanese calligraphy to create new works of art. Today\, she will focus on just Dance as her language.\n			\n			\n				\n				\n				\n				\n			\n			\n				\n				\n				\n				\n				\n				\n				\n				\n				\n				Ticket Information\nPremium Seating:\n$40 Extra large and comfy front row seats from A1 to A6 with side tables\nPreferred Seating:\n$35 Best-view seating in either the Front row (seats A7 to A15) OR the front row of any elevated section\nRegular Seating:\n$30\nPartially-Obstructed View Seats:\n$25\nFor information on our Access for All initiative\, click HERE\n			\n				BUY TICKETS\n			\n			\n				\n				\n			\n				\n				\n				\n				\n				\n				\n				\n				\n				\n				\n				\n				\n				\n			\n				\n				\n				\n				\n				\n				\n				\n				\n				\n				[events-calendar-search placeholder="Search Events" show-events="5" disable-past-events="false" layout="medium" content-type="advance"]\n			\n				BACK TO UPCOMING
URL:https://proartsmaui.org/event/anto-the-italian-whisperer-and-the-zen-artists/
LOCATION:ProArts Playhouse\, 1280 South Kihei Road\, Kihei\, HI\, 96753\, United States
CATEGORIES:Music
ATTACH;FMTTYPE=image/jpeg:https://proartsmaui.org/wp-content/uploads/2024/11/ANTO-square.jpg
END:VEVENT
END:VCALENDAR