BEGIN:VCALENDAR
VERSION:2.0
PRODID:-//ProArts Playhouse - ECPv6.15.20//NONSGML v1.0//EN
CALSCALE:GREGORIAN
METHOD:PUBLISH
X-ORIGINAL-URL:https://proartsmaui.org
X-WR-CALDESC:Events for ProArts Playhouse
REFRESH-INTERVAL;VALUE=DURATION:PT1H
X-Robots-Tag:noindex
X-PUBLISHED-TTL:PT1H
BEGIN:VTIMEZONE
TZID:Pacific/Honolulu
BEGIN:STANDARD
TZOFFSETFROM:-1000
TZOFFSETTO:-1000
TZNAME:HST
DTSTART:20230101T000000
END:STANDARD
END:VTIMEZONE
BEGIN:VEVENT
DTSTART;TZID=Pacific/Honolulu:20241201T190000
DTEND;TZID=Pacific/Honolulu:20241201T203000
DTSTAMP:20260420T092030
CREATED:20241130T034202Z
LAST-MODIFIED:20241130T063550Z
UID:6892-1733079600-1733085000@proartsmaui.org
SUMMARY:Anthony Pfluke "Home for the Holidays"
DESCRIPTION:Anthony Pfluke “Home for the Holidays”\n			\n				\n				\n				\n				\n				Sunday\, December 1\, 2024Starts at 7:00pmRun time: 90 minutes. No intermission\n			\n				BUY TICKETS\n			\n				\n				\n				\n				\n				Surprise show!\n			\n				\n				\n				\n				\n				About\nPresented by ProArts Playhouse and Mana’o Radio\nFeaturing Hula Halau Nā Pua o ka ʻIwa An evening of original\, Hawaiian\, and holiday music with Kumu Noelani and her hālau lighting up the stage with festive hula. Please join us for this intimate pop up show at Pro Arts Maui!\n			\n			\n				\n				\n				\n				\n			\n			\n				\n				\n				\n				\n				\n				\n				\n				\n				\n				Ticket Information\nPremium Seating:\n$30 Extra large and comfy front row seats from A1 to A6 with side tables\nPreferred Seating:\n$25 Best-view seating in either the Front row (seats A7 to A15) OR the front row of any elevated section\nRegular Seating:\n$20\nPartially-Obstructed View Seats:\n$15\nFor information on our Access for All initiative\, click HERE\n			\n				BUY TICKETS\n			\n			\n				\n				\n			\n				\n				\n				\n				\n				\n				\n				\n				\n				\n				\n				\n				\n				\n			\n				\n				\n				\n				\n				\n				\n				\n				\n				\n				[events-calendar-search placeholder="Search Events" show-events="5" disable-past-events="false" layout="medium" content-type="advance"]\n			\n				BACK TO UPCOMING
URL:https://proartsmaui.org/event/anthony-pfluke-home-for-the-holidays/
LOCATION:ProArts Playhouse\, 1280 South Kihei Road\, Kihei\, HI\, 96753\, United States
CATEGORIES:Music
ATTACH;FMTTYPE=image/jpeg:https://proartsmaui.org/wp-content/uploads/2024/11/Untitled-2.jpeg
END:VEVENT
END:VCALENDAR