BEGIN:VCALENDAR
VERSION:2.0
PRODID:-//ProArts Playhouse - ECPv6.15.20//NONSGML v1.0//EN
CALSCALE:GREGORIAN
METHOD:PUBLISH
X-ORIGINAL-URL:https://proartsmaui.org
X-WR-CALDESC:Events for ProArts Playhouse
REFRESH-INTERVAL;VALUE=DURATION:PT1H
X-Robots-Tag:noindex
X-PUBLISHED-TTL:PT1H
BEGIN:VTIMEZONE
TZID:Pacific/Honolulu
BEGIN:STANDARD
TZOFFSETFROM:-1000
TZOFFSETTO:-1000
TZNAME:HST
DTSTART:20240101T000000
END:STANDARD
END:VTIMEZONE
BEGIN:VEVENT
DTSTART;TZID=Pacific/Honolulu:20250917T190000
DTEND;TZID=Pacific/Honolulu:20250917T203000
DTSTAMP:20260419T021513
CREATED:20250715T112611Z
LAST-MODIFIED:20250814T031846Z
UID:9608-1758135600-1758141000@proartsmaui.org
SUMMARY:Sammy Obeid
DESCRIPTION:Sammy Obeid\n			\n				\n				\n				\n				\n				Wednesday\, September 17\, 2025Starts at 7:00pmRun time: 90 minutes with no intermission\n			\n				BUY TICKETS\n			\n				\n				\n				\n				\n				About the Show\nSammy Obeid (Netflix\, NBC\, TikTok) comes to Maui for an unforgettable night of laughs!\n*All ages welcome with some mature content\n			\n				\n				\n				\n				\n				About the Artist\nLebanese-Palestinian American\, born in Oakland California\, Sammy Obeid double majored in Business and Mathematics at UC Berkeley and then turned down a job at Google to be a comedian. Now the host of 100 Humans on Netflix\, he’s also appeared on NBC’s Last Comic Standing and America’s Got Talent\, as well as TBS’s Conan\, and is best known for his world record of performing comedy 1\,001 nights in a row\, a story featured in both Time Magazine and The New York Times.\n			\n				\n				\n				\n				\n				\n			\n			\n				\n				\n				\n				\n			\n			\n				\n				\n				\n				\n				\n				\n				\n				\n				\n				Ticket Pricing\nPremium:\n$55 Extra large and comfy front row seats from A1 to A6 with side tables\nPreferred:\n$44 Best-view seating in either the front row (seats A7 to A15) OR the front row of any elevated section\nRegular:\n$29\nSlightly-Obstructed View:\n$24\nFor information on our Access for All initiative\, click HERE\n			\n				BUY TICKETS\n			\n			\n				\n				\n			\n				\n				\n				\n				\n				\n				\n				\n				\n				\n				\n				\n				\n				\n			\n				\n				\n				\n				\n				\n				\n				\n				\n				\n				[events-calendar-search placeholder="Search Events" show-events="5" disable-past-events="false" layout="medium" content-type="advance"]\n			\n				BACK TO UPCOMING
URL:https://proartsmaui.org/event/sammy-obeid/
LOCATION:ProArts Playhouse\, 1280 South Kihei Road\, Kihei\, HI\, 96753\, United States
CATEGORIES:Comedy
ATTACH;FMTTYPE=image/jpeg:https://proartsmaui.org/wp-content/uploads/2025/07/sammy-obeid-rev-SQUARE-e1755141440950.jpg
END:VEVENT
END:VCALENDAR