BEGIN:VCALENDAR
VERSION:2.0
PRODID:-//ProArts Playhouse - ECPv6.15.20//NONSGML v1.0//EN
CALSCALE:GREGORIAN
METHOD:PUBLISH
X-WR-CALNAME:ProArts Playhouse
X-ORIGINAL-URL:https://proartsmaui.org
X-WR-CALDESC:Events for ProArts Playhouse
REFRESH-INTERVAL;VALUE=DURATION:PT1H
X-Robots-Tag:noindex
X-PUBLISHED-TTL:PT1H
BEGIN:VTIMEZONE
TZID:Pacific/Honolulu
BEGIN:STANDARD
TZOFFSETFROM:-1000
TZOFFSETTO:-1000
TZNAME:HST
DTSTART:20240101T000000
END:STANDARD
END:VTIMEZONE
BEGIN:VEVENT
DTSTART;TZID=Pacific/Honolulu:20250831T190000
DTEND;TZID=Pacific/Honolulu:20250831T203000
DTSTAMP:20260419T022447
CREATED:20241106T230020Z
LAST-MODIFIED:20250817T093646Z
UID:5731-1756666800-1756672200@proartsmaui.org
SUMMARY:Maui Improv
DESCRIPTION:Maui Improv\n			\n				\n				\n				\n				\n				Sunday\, August 31\, 2025Starts at 7:00pmRun time: Approximately 70 minutes with no intermission\n			\n				BUY TICKETS\n			\n				\n				\n				\n				\n				About the Show\nAnother fun-filled evening of made-up-on-the-spot MAUI IMPROV! Come on down! We’ll laugh with you then!\nAdvance tickets at the ProArts on Maui box office and Eventbrite and at the door the night of the show! Doors open at 6:30pm\, show gets underway at 7pm!\n$20 for Nights with Featured Guests!Tickets $15 for class showcases (all fees included) Open seating\, so come early for best selection!\nAloha from Maui Improv – nominated as Maui’s Best Theater Company! Maui Improv is a 501(C3) nonprofit and since 2014 we have provided opportunities to improvise on the Valley Isle with monthly Showcase Performances the last Sunday of the month at ProArts Playhouse in Kihei\, weekly drop-ins at the Akaku Building in Kahului on the second floor and educational workshops hosted by some of the Improv world’s most impressive visiting teachers and performers!\nThe last Sunday of every month! (Check dates for schedule variations)\n*An independent production.\n  \n			\n			\n				\n				\n				\n				\n			\n			\n				\n				\n				\n				\n				\n				\n				\n				\n				\n				Ticket Information\n$20 for Nights with Featured Guests!Tickets $15 for Class Showcases (all fees included)Open seating\, so come early for best selection!\n			\n				BUY TICKETS\n			\n			\n				\n				\n			\n				\n				\n				\n				\n				\n				\n				\n				\n				\n				\n				\n				\n				\n				BACK TO UPCOMING\n			\n			\n				\n				\n				\n				\n			\n				\n				\n				\n				\n				\n				\n			\n				\n				\n				\n				\n				\n				\n				\n				\n				\n				\n					\n						Search for:
URL:https://proartsmaui.org/event/maui-improv-8-31-25/
LOCATION:ProArts Playhouse\, 1280 South Kihei Road\, Kihei\, HI\, 96753\, United States
CATEGORIES:Comedy
ATTACH;FMTTYPE=image/jpeg:https://proartsmaui.org/wp-content/uploads/2024/11/MAUI-Improv-Aug2025.jpg
END:VEVENT
END:VCALENDAR