BEGIN:VCALENDAR
VERSION:2.0
PRODID:-//ProArts Playhouse - ECPv6.15.20//NONSGML v1.0//EN
CALSCALE:GREGORIAN
METHOD:PUBLISH
X-ORIGINAL-URL:https://proartsmaui.org
X-WR-CALDESC:Events for ProArts Playhouse
REFRESH-INTERVAL;VALUE=DURATION:PT1H
X-Robots-Tag:noindex
X-PUBLISHED-TTL:PT1H
BEGIN:VTIMEZONE
TZID:Pacific/Honolulu
BEGIN:STANDARD
TZOFFSETFROM:-1000
TZOFFSETTO:-1000
TZNAME:HST
DTSTART:20250101T000000
END:STANDARD
END:VTIMEZONE
BEGIN:VEVENT
DTSTART;TZID=Pacific/Honolulu:20260111T150000
DTEND;TZID=Pacific/Honolulu:20260111T163000
DTSTAMP:20260420T215123
CREATED:20250815T055719Z
LAST-MODIFIED:20251224T013312Z
UID:10032-1768143600-1768149000@proartsmaui.org
SUMMARY:White Hawaiian
DESCRIPTION:White Hawaiian\n			\n				\n				\n				\n				\n				Sunday\, January 11\, 2026Starts at 3:00pmRun-time: 75 minutes – No Intermission\n			\n				BUY TICKETS\n			\n				\n				\n				\n				\n				About the Show\nEric Gilliom’s “White Hawaiian” is back and delighting audiences EVERY SUNDAY!\nHelp us celebrate the FINAL SEASON of this runaway hit show\, ending on March 1st with his 150th performance!\nProduced by ProArts Playhouse + Eric GilliomWritten by Brian Kohne + Eric Gilliom\nA one-man musical extravaganza! Winner of 2023’s Best Cabaret/Concert/Solo Performance in Hawai’i by BroadwayWorld!\nBroadway’s Eric Gilliom tickles your funny bone and warms your heart while celebrating Hawaii’s rich history and unique multi-ethnic culture. Breathing life into his own native-Hawaiian ancestry through a dizzying array of characters\, hilarious storytelling\, and over-the-top show stoppers\, Gilliom’s entertainment industry family legacy proves beyond the shadow of a doubt that truth is always stranger than fiction\, and the coconut doesn’t fall far from the tree.\n“Based on the foundation of a multigenerational family tribute\, White Hawaiian embraces a dizzying array of comedic caricatures\, Chaplinesque slapstick\, moving drama\, multiple hit musical highlights and non-stop laugh-out-loud moments along with Hawaiian cultural history. All wrapped up with a knockout performance by its star. An actor’s tour de force” —Maui News\n“Hawaii’s greatest showman” — Rock legend Mick Fleetwood\n“Eric is one of the funniest guys I know” — Oscar winner Jamie Foxx\nWARNING: Show contains flashing light effects\, alarm sound effects\, as well as non-toxic\, non-flammable\, unscented haze effects are used in this show. *The biographically based show does touch on old\, cultural stereotypes that are both thought provoking and painful. Some content or language may not be ideal for young children and therefore the show is rated 15+.\n  \n			\n			\n				\n				\n				\n				\n			\n			\n				\n				\n				\n				\n				\n				\n				\n				\n				\n				Ticket Information\nPremium Seating:\n$53 Extra large and comfy front row seats from A1 to A6 with side tables\nPreferred Seating:\n$47.70 Best-view seating in either the Front row (seats A7 to A15) OR the front row of any elevated section\nRegular Seating:\n$37.10\nPartially-Obstructed View Seating:\n$31.80\nFor information on our Access for All initiative\, click HERE.\n$5 OFF Kama’aina (with valid State of Hawai’i ID)\n			\n				BUY TICKETS\n			\n			\n				\n				\n			\n				\n				\n				\n				\n				\n				\n				\n				\n				\n				\n				\n				\n				\n				BACK TO UPCOMING\n			\n			\n				\n				\n				\n				\n			\n				\n				\n				\n				\n				\n				\n			\n				\n				\n				\n				\n				\n				\n				\n				\n				\n				\n					\n						Search for:
URL:https://proartsmaui.org/event/white-hawaiian-1-11-26/
LOCATION:ProArts Playhouse\, 1280 South Kihei Road\, Kihei\, HI\, 96753\, United States
CATEGORIES:Comedy,Music,Theatre
ATTACH;FMTTYPE=image/jpeg:https://proartsmaui.org/wp-content/uploads/2025/03/unnamed-1-e1741830983337.jpg
END:VEVENT
BEGIN:VEVENT
DTSTART;TZID=Pacific/Honolulu:20260111T190000
DTEND;TZID=Pacific/Honolulu:20260111T203000
DTSTAMP:20260420T215123
CREATED:20251211T124917Z
LAST-MODIFIED:20260102T153917Z
UID:12216-1768158000-1768163400@proartsmaui.org
SUMMARY:Barry Sless and Stephen Inglis - Pedal Steel and Slack Key Guitar
DESCRIPTION:Barry Sless and Stephen Inglis – Pedal Steel and Slack Key Guitar\n			\n				\n				\n				\n				\n				Sunday\, January 11\, 2026Starts at 7pmRun time: 90 minutes with no intermission\n			\n				BUY TICKETS\n			\n				\n				\n				\n				\n				Presented by ProArts Playhouse and Aloha Growers\n			\n				\n				\n				\n				\n				After a mutual friend set them up with what was meant to be a one-off duet performance in January 2024\, their chemistry was immediate and undeniable. It was clear from the start that Barry Sless and Stephen Inglis had found the right ingredients for a special musical dish. Hawaiian Slack Key Guitar and the Pedal Steel share many deep roots\, but are seldom if ever heard together.\nTheir maiden voyage included traditional Hawaiian songs\, Inglis originals\, favorites from the Grateful Dead and Dylan songbooks played with a Hawaiian style and much more. Both Barry\, Stephen and everyone in attendance agreed that the music felt effortless\, captivating\, vibrant and full. It was clear that this would be the first of many shows to come. Since that maiden voyage the pair has toured California\, Oregon\, Washington\, Alaska and Hawaii and have continued to expand their repertoire. Barry has been making frequent trips to the Hawaiian islands over the past few decades as a member of The David Nelson Band and other acts\, which has kindled his love of Hawaiian music. He was a frequent member of Phil Lesh’s touring bands from the early 2000’s and currently tours as a member of Bobby Weir and Wolf Bros\, Moonalice\, and continues in the 31st year of David Nelson Band.\nBorn and raised in Honolulu\, Stephen plays Grammy-nominated Hawaiian slack key and is equally at home playing improv-rock on the electric guitar. He is the 2021 recipient of the Ki Hōʻalu Legacy Award (honoring those who perpetuate the art of Hawaiian Slack Key Guitar) giving him his third nod at the Nā Hōkū Hanohano Awards; Hawaiʻiʻs highest musical honor. One of those is for the duet album with the legendary Dennis Kamakahi; Waimaka Helelei\, which is on permanent display at the Smithsonian Institution in Washington\, DC. Barely out of his teens\, Stephen formed a group with legendary Grateful Dead drummer\, Bill Kreutzmann. Each performance promises to offer high level artistry hosting an intimate evening of original compositions\, Grateful Dead and Bob Dylan interpretations\, and dynamic improvisations that span genres from\n			\n			\n				\n				\n				\n				\n			\n			\n				\n				\n				\n				\n				\n				\n				\n				\n				\n				Ticket Pricing\nPremium:\n$42.40 Extra large and comfy front row seats from A1 to A6 with side tables\nPreferred:\n$37.10 Best-view seating in either the front row (seats A7 to A15) OR the front row of any elevated section\nRegular:\n$26.50\nSlightly-Obstructed View:\n$21.20\nTeen and Keiki discounts!\nFor information on our Access for All initiative\, click HERE\n			\n				BUY TICKETS\n			\n			\n				\n				\n			\n				\n				\n				\n				\n				\n				\n				\n				\n				\n				\n				\n				\n				\n			\n				\n				\n				\n				\n				\n				\n				\n				\n				\n				[events-calendar-search placeholder="Search Events" show-events="5" disable-past-events="false" layout="medium" content-type="advance"]\n			\n				BACK TO UPCOMING
URL:https://proartsmaui.org/event/barry-sless-and-stephen-inglis-pedal-steel-and-slack-key-guitar/
LOCATION:ProArts Playhouse\, 1280 South Kihei Road\, Kihei\, HI\, 96753\, United States
ATTACH;FMTTYPE=image/jpeg:https://proartsmaui.org/wp-content/uploads/2025/12/photo-bob-minkin-0394.jpeg
END:VEVENT
END:VCALENDAR