BEGIN:VCALENDAR
VERSION:2.0
PRODID:-//ProArts Playhouse - ECPv6.15.20//NONSGML v1.0//EN
CALSCALE:GREGORIAN
METHOD:PUBLISH
X-ORIGINAL-URL:https://proartsmaui.org
X-WR-CALDESC:Events for ProArts Playhouse
REFRESH-INTERVAL;VALUE=DURATION:PT1H
X-Robots-Tag:noindex
X-PUBLISHED-TTL:PT1H
BEGIN:VTIMEZONE
TZID:Pacific/Honolulu
BEGIN:STANDARD
TZOFFSETFROM:-1000
TZOFFSETTO:-1000
TZNAME:HST
DTSTART:20240101T000000
END:STANDARD
END:VTIMEZONE
BEGIN:VEVENT
DTSTART;TZID=Pacific/Honolulu:20251207T140000
DTEND;TZID=Pacific/Honolulu:20251207T153000
DTSTAMP:20260420T234408
CREATED:20251030T002223Z
LAST-MODIFIED:20251125T205525Z
UID:10950-1765116000-1765121400@proartsmaui.org
SUMMARY:Reluctant Elf
DESCRIPTION:The Reluctant Elf\n			\n				\n				\n				\n				\n				WRITTEN BY: Ally Shore and Katy Holtkamp\nDIRECTED BY: Kiegan Otterson\nRunning Time: 50 minutes with No Intermission\nPurchase a Theatrical Season Membership HERE to enjoy all 4 2025–26 Theatrical Season shows in one incredible package. (Steel Magnolias November 7–23\, 2025\, The Reluctant Elf  December 5–14\, 2025\, Gutenberg! The Musical! January 30–February 15\, 2026\, and RENT the Musical March 13–May 5\, 2026)\n			\n				BUY TICKETS\n			\n				\n				\n				\n				\n				About the Show\nOur ‘buddy’ Steve the Elf is back by popular demand in our original holiday adventure jam packed with all your favorite songs of the season! Join us for this joyous family friendly celebration of the holiday featuring some of Maui’s favorite performers. Sing along\, have a cup of cheer and remember what it was like to be a child during the holidays.\nCome early for caroling around our baby grand piano with the one and only Louise Lambert!\nPerformances\n\nFriday\, December 5 at 7:30 PM\nSaturday\, December 6 at 4:00 PM\nSaturday\, December 6 at 7:30 PM\nSunday\, December 7 at 2:00 PM\nThursday\, December 11 at 7:30 PM\nFriday\, December 12 at 7:30 PM\n*Special Sensory-Friendly Performance on Saturday\, December 13 at 4:00 PM (Reservations for Sensory-Friendly performance by phone only)\nSaturday\, December 13 at 7:30 PM\nSunday\, December 14 at 2:00 PM\n\n			\n			\n				\n				\n				\n				\n			\n			\n				\n				\n				\n				\n				\n				\n				\n				\n				\n				Ticket InformationIncluding Fees\nPremium:\n$47.70 (large cushy front-row chairs with small tables)\nPreferred:\n$42.40  (front row of any seating tier)\nRegular Seating:\n$31.80\nPartially-Obstructed View:\n$26.50\nTeens (13 to 17):\n$5 off any seat\nThursdays are Kama’aina Nights for 10% off!\nFREE tickets for Keiki 12 and under! Made possible by the Plus One Ticket Program by Wave of Harmony Foundation\n			\n				BUY TICKETS\n			\n			\n				\n				\n			\n				\n				\n				\n				\n				\n				\n				\n				\n				\n				\n				\n				\n				\n				BACK TO UPCOMING\n			\n			\n				\n				\n				\n				\n			\n				\n				\n				\n				\n				\n				\n			\n				\n				\n				\n				\n				\n				\n				\n				\n				\n				\n					\n						Search for:
URL:https://proartsmaui.org/event/reluctant-elf-dec-7-2025/
LOCATION:ProArts Playhouse\, 1280 South Kihei Road\, Kihei\, HI\, 96753\, United States
CATEGORIES:Theatre
ATTACH;FMTTYPE=image/jpeg:https://proartsmaui.org/wp-content/uploads/2025/08/Reluctant-Elf-2025-Square-e1755902692897.jpg
END:VEVENT
BEGIN:VEVENT
DTSTART;TZID=Pacific/Honolulu:20251207T190000
DTEND;TZID=Pacific/Honolulu:20251207T203000
DTSTAMP:20260420T234408
CREATED:20250815T062719Z
LAST-MODIFIED:20250815T062723Z
UID:10087-1765134000-1765139400@proartsmaui.org
SUMMARY:White Hawaiian
DESCRIPTION:White Hawaiian\n			\n				\n				\n				\n				\n				Sunday\, December 7\, 2025Starts at 7:00pmRun-time: 75 minutes – No Intermission\n			\n				BUY TICKETS\n			\n				\n				\n				\n				\n				About the Show\nShows every Sunday\, starting April 20th!\nA one-man musical extravaganza! Winner of 2023’s Best Cabaret/Concert/Solo Performance  in Hawai’i by BroadwayWorld!\n(Times vary each week. Some weeks are at 3pm. Others at 7pm.) For full listing\, click Book Tickets!\nBroadway’s Eric Gilliom tickles your funny bone and warms your heart while celebrating Hawaii’s rich history and unique multi-ethnic culture. Breathing life into his own native-Hawaiian ancestry through a dizzying array of characters\, hilarious storytelling\, and over-the-top show stoppers\, Gilliom’s entertainment industry family legacy proves beyond the shadow of a doubt that truth is always stranger than fiction\, and the coconut doesn’t fall far from the tree.\n“Based on the foundation of a multigenerational family tribute\, White Hawaiian embraces a dizzying array of comedic caricatures\, Chaplinesque slapstick\, moving drama\, multiple hit musical highlights and non-stop laugh-out-loud moments along with Hawaiian cultural history. All wrapped up with a knockout performance by its star. An actor’s tour de force”   —Maui News\n“Hawaii’s greatest showman”   — Rock legend Mick Fleetwood\n“Eric is one of the funniest guys I know” — Oscar winner Jamie Foxx\n \n			\n			\n				\n				\n				\n				\n			\n			\n				\n				\n				\n				\n				\n				\n				\n				\n				\n				Ticket Information\nPremium Seating:\n$53 Extra large and comfy front row seats from A1 to A6 with side tables\nPreferred Seating:\n$47.70 Best-view seating in either the Front row (seats A7 to A15) OR the front row of any elevated section\nRegular Seating:\n$37.10\nPartially-Obstructed View Seating:\n$31.80\nFor information on our Access for All initiative\, click HERE.\n$5 OFF Kama’aina (with valid State of Hawai’i ID)\n			\n				BUY TICKETS\n			\n			\n				\n				\n			\n				\n				\n				\n				\n				\n				\n				\n				\n				\n				\n				\n				\n				\n				BACK TO UPCOMING\n			\n			\n				\n				\n				\n				\n			\n				\n				\n				\n				\n				\n				\n			\n				\n				\n				\n				\n				\n				\n				\n				\n				\n				\n					\n						Search for:
URL:https://proartsmaui.org/event/white-hawaiian-dec-7-25/
LOCATION:ProArts Playhouse\, 1280 South Kihei Road\, Kihei\, HI\, 96753\, United States
CATEGORIES:Comedy,Music,Theatre
ATTACH;FMTTYPE=image/jpeg:https://proartsmaui.org/wp-content/uploads/2025/03/unnamed-1-e1741830983337.jpg
END:VEVENT
END:VCALENDAR